BEGIN:VCALENDAR
VERSION:2.0
PRODID:-//Squarespace Inc/Squarespace 6//v6//EN
BEGIN:VEVENT
UID:5985d454bf629a081fdddc38@squarespace.com
DTSTAMP:20170805T233653Z
DTSTART:20170820T140000Z
DTEND:20170821T020000Z
SUMMARY:Lodge and pay July 2017 monthly activity statement.
END:VEVENT
END:VCALENDAR
