BEGIN:VCALENDAR
VERSION:2.0
PRODID:-//Squarespace Inc/Squarespace 6//v6//EN
BEGIN:VEVENT
UID:5985d4a9579fb35d42b3ef4f@squarespace.com
DTSTAMP:20170805T233719Z
DTSTART:20170827T140000Z
DTEND:20170828T020000Z
SUMMARY:Lodge and pay quarter 4\, 2016–17 Superannuation guarantee charge s
 tatement – quarterly if the employer did not pay enough contributions on t
 ime.
END:VEVENT
END:VCALENDAR
