BEGIN:VCALENDAR
VERSION:2.0
PRODID:-//Squarespace Inc/Squarespace 6//v6//EN
BEGIN:VEVENT
UID:59865572f9a61e3bd6842d2d@squarespace.com
DTSTAMP:20170805T233332Z
DTSTART:20171030T130000Z
DTEND:20171031T010000Z
SUMMARY:Lodge tax return for all entities prosecuted for non-lodgment of pr
 ior year returns and advised of a lodgment due date of 31 October 2017
END:VEVENT
END:VCALENDAR
