BEGIN:VCALENDAR
VERSION:2.0
PRODID:-//Squarespace Inc/Squarespace 6//v6//EN
BEGIN:VEVENT
UID:598655953e00bec843c6759a@squarespace.com
DTSTAMP:20170805T233245Z
DTSTART:20171030T130000Z
DTEND:20171031T010000Z
SUMMARY:Lodge tax returns for all entities if one or more prior year return
 s were outstanding as at 30 June 2017.
END:VEVENT
END:VCALENDAR
