BEGIN:VCALENDAR
VERSION:2.0
PRODID:-//Squarespace Inc/Squarespace 6//v6//EN
BEGIN:VEVENT
UID:598654c14c0dbf146061c4e9@squarespace.com
DTSTAMP:20170805T232916Z
DTSTART:20171027T130000Z
DTEND:20171028T010000Z
SUMMARY:Lodge and pay quarter 1\, 2017–18 activity statement if lodging by 
 paper. Pay quarter 1\, 2017–18 instalment notice (form R\, S\, or T). Lodg
 e the notice only if you vary the instalment amount.
END:VEVENT
END:VCALENDAR
