BEGIN:VCALENDAR
VERSION:2.0
PRODID:-//Squarespace Inc/Squarespace 6//v6//EN
BEGIN:VEVENT
UID:5986529ec534a5778be0142e@squarespace.com
DTSTAMP:20170805T232211Z
DTSTART:20171020T130000Z
DTEND:20171021T010000Z
SUMMARY:	 Pay annual PAYG instalment notice (Form N). Lodge only if you var
 y the instalment amount or use the rate method to calculate the instalment
 .
END:VEVENT
END:VCALENDAR
